BEGIN:VCALENDAR
VERSION:2.0
PRODID:-//NASCUS - ECPv6.15.20//NONSGML v1.0//EN
CALSCALE:GREGORIAN
METHOD:PUBLISH
X-ORIGINAL-URL:https://www.nascus.org
X-WR-CALDESC:Events for NASCUS
REFRESH-INTERVAL;VALUE=DURATION:PT1H
X-Robots-Tag:noindex
X-PUBLISHED-TTL:PT1H
BEGIN:VTIMEZONE
TZID:America/New_York
BEGIN:DAYLIGHT
TZOFFSETFROM:-0500
TZOFFSETTO:-0400
TZNAME:EDT
DTSTART:20230312T070000
END:DAYLIGHT
BEGIN:STANDARD
TZOFFSETFROM:-0400
TZOFFSETTO:-0500
TZNAME:EST
DTSTART:20231105T060000
END:STANDARD
BEGIN:DAYLIGHT
TZOFFSETFROM:-0500
TZOFFSETTO:-0400
TZNAME:EDT
DTSTART:20240310T070000
END:DAYLIGHT
BEGIN:STANDARD
TZOFFSETFROM:-0400
TZOFFSETTO:-0500
TZNAME:EST
DTSTART:20241103T060000
END:STANDARD
BEGIN:DAYLIGHT
TZOFFSETFROM:-0500
TZOFFSETTO:-0400
TZNAME:EDT
DTSTART:20250309T070000
END:DAYLIGHT
BEGIN:STANDARD
TZOFFSETFROM:-0400
TZOFFSETTO:-0500
TZNAME:EST
DTSTART:20251102T060000
END:STANDARD
END:VTIMEZONE
BEGIN:VEVENT
DTSTART;TZID=America/New_York:20240715T140000
DTEND;TZID=America/New_York:20240715T150000
DTSTAMP:20260422T111924
CREATED:20240624T150010Z
LAST-MODIFIED:20240624T163444Z
UID:10000469-1721052000-1721055600@www.nascus.org
SUMMARY:L&R Committee Webinar Series: Best Practices for Analyzing Returns with LoanStreet
DESCRIPTION:Join Us on July 15\, 2024 from 2:00 pm – 3:00 pm\n\n\n\n\n\n\n\n\n\n\n\nNASCUS is pleased to announce the next topic in our series of complimentary webinars for all members. \nOur guest speaker\, LoanStreet CEO Ian Lampl\, will join us for a webinar dedicated to helping credit unions analyze their returns more effectively. While boards and loan officers tend to focus on one element of loan performance — charge-offs — Ian will show why it’s critical not to overlook an often underestimated element that can significantly impact returns: prepayments. \nIn addition\, Ian will explain how to overcome the challenge of determining the lifetime return rate of a credit union’s investments—especially investments with irregular cash flow patterns. Ian will discuss the concepts and mechanics behind the Internal Rate of Return (IRR) and the advantages it offers loan portfolio managers over other return rates commonly used by credit unions. \nThis webinar will help you understand how and why you should incorporate prepayment rate analysis and IRR into your portfolio evaluation. This offering is part of our ongoing series of special L&R Calls addressing key issues in the credit union system\, is a unique opportunity for NASCUS members to gain valuable insights from industry leaders. \n\n\n\n\n\n\n\n\n\n\n\n\nAttendance is free as a NASCUS member benefit. Registration is required.\nA virtual meeting link will be sent out ahead of the webinar. \n\nGuest Speaker: Ian Lampl\, Founder & CEO\, LoanStreet\nIan Lampl is the co-founder and CEO of LoanStreet Inc.\, an innovative online platform that helps financial institutions to manage\, scale and analyze loans on their balance sheets\, connect with partners and effectively share risk. \nPrior to launching LoanStreet\, Ian served as Deputy Chief Counsel for the Office of Financial Stability which implemented the Troubled Asset Relief Program (TARP) for the United States Department of the Treasury. While at Treasury\, Ian developed and managed a number of the Treasury programs to stem the financial crisis. For his work\, he received the Treasury Secretary’s honor award for exemplary public service. \nIan is recognized as an industry leader in loan participations and is a frequent speaker at banking\, credit union\, and financial technology conferences. Before joining Treasury\, Ian was an attorney at Cravath\, Swaine & Moore LLP\, where he focused on commercial lending and securities offerings. He graduated with honors from both University of Chicago Law School and Princeton University\, where he received a B.S.E. in Electrical Engineering.
URL:https://www.nascus.org/event/webinar-best-practices-for-analyzing-returns-with-loanstreet/
LOCATION:Virtual
ATTACH;FMTTYPE=image/jpeg:https://www.nascus.org/wp-content/uploads/2022/09/Fimage-zoom-meeting_1689338029.jpg
ORGANIZER;CN="Isaida Woo":MAILTO:isaida@nascus.org
END:VEVENT
BEGIN:VEVENT
DTSTART;TZID=America/New_York:20240718T100000
DTEND;TZID=America/New_York:20240718T120000
DTSTAMP:20260422T111924
CREATED:20231212T171554Z
LAST-MODIFIED:20240522T191952Z
UID:10000445-1721296800-1721304000@www.nascus.org
SUMMARY:NCUA Board Meeting
DESCRIPTION:All meetings of the NCUA Board are held at its headquarters at 1775 Duke Street in Alexandria\, Virginia. Visitors are encouraged to register in advance to attend Board meetings in person and must enter the building at the agency’s Visitor Center on Diagonal Road. \nNCUA’s open Board meetings are also livestreamed on the NCUA’s YouTube channel and available afterward for viewing for one year. \nClick here for redirection to the NCUA website for agenda’s and meeting notes. \nAll future meetings’ agendas and schedules are subject to change.
URL:https://www.nascus.org/event/ncua-board-meeting-3/2024-07-18/
END:VEVENT
END:VCALENDAR