BEGIN:VCALENDAR
VERSION:2.0
PRODID:-//NASCUS - ECPv6.15.20//NONSGML v1.0//EN
CALSCALE:GREGORIAN
METHOD:PUBLISH
X-ORIGINAL-URL:https://www.nascus.org
X-WR-CALDESC:Events for NASCUS
REFRESH-INTERVAL;VALUE=DURATION:PT1H
X-Robots-Tag:noindex
X-PUBLISHED-TTL:PT1H
BEGIN:VTIMEZONE
TZID:America/Kentucky/Louisville
BEGIN:DAYLIGHT
TZOFFSETFROM:-0500
TZOFFSETTO:-0400
TZNAME:EDT
DTSTART:20210314T070000
END:DAYLIGHT
BEGIN:STANDARD
TZOFFSETFROM:-0400
TZOFFSETTO:-0500
TZNAME:EST
DTSTART:20211107T060000
END:STANDARD
BEGIN:DAYLIGHT
TZOFFSETFROM:-0500
TZOFFSETTO:-0400
TZNAME:EDT
DTSTART:20220313T070000
END:DAYLIGHT
BEGIN:STANDARD
TZOFFSETFROM:-0400
TZOFFSETTO:-0500
TZNAME:EST
DTSTART:20221106T060000
END:STANDARD
BEGIN:DAYLIGHT
TZOFFSETFROM:-0500
TZOFFSETTO:-0400
TZNAME:EDT
DTSTART:20230312T070000
END:DAYLIGHT
BEGIN:STANDARD
TZOFFSETFROM:-0400
TZOFFSETTO:-0500
TZNAME:EST
DTSTART:20231105T060000
END:STANDARD
END:VTIMEZONE
BEGIN:VTIMEZONE
TZID:America/New_York
BEGIN:DAYLIGHT
TZOFFSETFROM:-0500
TZOFFSETTO:-0400
TZNAME:EDT
DTSTART:20210314T070000
END:DAYLIGHT
BEGIN:STANDARD
TZOFFSETFROM:-0400
TZOFFSETTO:-0500
TZNAME:EST
DTSTART:20211107T060000
END:STANDARD
BEGIN:DAYLIGHT
TZOFFSETFROM:-0500
TZOFFSETTO:-0400
TZNAME:EDT
DTSTART:20220313T070000
END:DAYLIGHT
BEGIN:STANDARD
TZOFFSETFROM:-0400
TZOFFSETTO:-0500
TZNAME:EST
DTSTART:20221106T060000
END:STANDARD
BEGIN:DAYLIGHT
TZOFFSETFROM:-0500
TZOFFSETTO:-0400
TZNAME:EDT
DTSTART:20230312T070000
END:DAYLIGHT
BEGIN:STANDARD
TZOFFSETFROM:-0400
TZOFFSETTO:-0500
TZNAME:EST
DTSTART:20231105T060000
END:STANDARD
END:VTIMEZONE
BEGIN:VTIMEZONE
TZID:America/Chicago
BEGIN:DAYLIGHT
TZOFFSETFROM:-0600
TZOFFSETTO:-0500
TZNAME:CDT
DTSTART:20210314T080000
END:DAYLIGHT
BEGIN:STANDARD
TZOFFSETFROM:-0500
TZOFFSETTO:-0600
TZNAME:CST
DTSTART:20211107T070000
END:STANDARD
BEGIN:DAYLIGHT
TZOFFSETFROM:-0600
TZOFFSETTO:-0500
TZNAME:CDT
DTSTART:20220313T080000
END:DAYLIGHT
BEGIN:STANDARD
TZOFFSETFROM:-0500
TZOFFSETTO:-0600
TZNAME:CST
DTSTART:20221106T070000
END:STANDARD
BEGIN:DAYLIGHT
TZOFFSETFROM:-0600
TZOFFSETTO:-0500
TZNAME:CDT
DTSTART:20230312T080000
END:DAYLIGHT
BEGIN:STANDARD
TZOFFSETFROM:-0500
TZOFFSETTO:-0600
TZNAME:CST
DTSTART:20231105T070000
END:STANDARD
END:VTIMEZONE
BEGIN:VEVENT
DTSTART;TZID=America/Kentucky/Louisville:20221213T083000
DTEND;TZID=America/Kentucky/Louisville:20221213T150000
DTSTAMP:20260422T135448
CREATED:20220126T212507Z
LAST-MODIFIED:20220921T141133Z
UID:10000365-1670920200-1670943600@www.nascus.org
SUMMARY:NASCUS Event: Kentucky Directors' College
DESCRIPTION:Join Us On December 13\, 2022\n\nBoard governance has never been more important as state and federal examiners continue to scrutinize the management and governance of credit unions to ensure a culture of compliance and competence emanates from the top down. \nSenior staff and directors will join NASCUS and a panel of specialists exploring critical topics for every credit union’s leadership team. \n\nSurvey the legion of board policies required for federally insured credit unions and understand how and why they fit into the regulatory framework for your credit union\nUnderstand the structure and role of a properly functioning supervisory committee\n\nWith cybersecurity top of mind for regulators\, policymakers and credit union members\, understand the top weaknesses in credit unions often exploited by hackers. And finally\, enhance your board’s reading of the credit union’s annual audit report with a session focused on breaking down reports and identifying the key takeaways. \nNASCUS Director Colleges\, held around the country\, are perfectly calibrated to combine important but digestible information for directors in a relaxed setting. Attendees will network over coffee before starting the morning session\, breaking for lunch (provided) and the finishing up by 3pm. \nClick on the registration button below to view the agenda. \n \nThis hybrid event allows learning opportunities in-person or virtually from your desk. \nLocation\nUniversity of Louisville Event and Conference Center \nShelbyHurst\, Room 162/163\n450 N Whittington Pkwy\, Louisville KY 40222 \nPricing \n\n$199 NASCUS and Kentucky Credit Union League Members (in-person or virtual options)\n$299 Non-members (in-person or virtual options)
URL:https://www.nascus.org/event/kentucky-directors-college/
ATTACH;FMTTYPE=image/jpeg:https://www.nascus.org/wp-content/uploads/2022/01/Fimage-kentucky_672897307.jpg
END:VEVENT
BEGIN:VEVENT
DTSTART;VALUE=DATE:20221215
DTEND;VALUE=DATE:20221217
DTSTAMP:20260422T135448
CREATED:20221214T190137Z
LAST-MODIFIED:20221214T190137Z
UID:10000281-1671062400-1671235199@www.nascus.org
SUMMARY:2022 CFPB Research Conference
DESCRIPTION:2022 CFPB Research Conference\nIn person registration is open until December 11th. \nLivestream registration is now open. \n\nOn December 15–16\, 2022\, the CFPB will host its sixth research conference on consumer finance. The conference will be held in person at CFPB headquarters at 1700 G Street NW\, Washington DC. \n\nThe goal of the conference is to connect the core community of researchers and policymakers\, with a focus on research from a wide range of disciplines and approaches that can inform both groups on the topic of consumer finance. \n\n\n\n\n\n\n\n \n\nAgenda \n\n\nThe two-day conference will feature a keynote address and eight sessions of researchers presenting their work with members of CFPB’s Office of Research serving as discussants. \n\nSee the agenda\n\n\n\n\n\n\n \n\nCall for papers \n\n\nFor this conference\, we welcome and encourage the submission of a broad range of research work. \n\nView the call for papers
URL:https://www.nascus.org/event/2022-cfpb-research-conference/
END:VEVENT
BEGIN:VEVENT
DTSTART;TZID=America/Chicago:20221215T080000
DTEND;TZID=America/Chicago:20221215T150000
DTSTAMP:20260422T135448
CREATED:20220314T142232Z
LAST-MODIFIED:20220921T141402Z
UID:10000252-1671091200-1671116400@www.nascus.org
SUMMARY:NASCUS Event: Tennessee Directors College
DESCRIPTION:December 15\, 2022\nA state-specific opportunity for credit unions to hear firsthand from state regulators\, including board-level policies\, supervisory best practices\, cybersecurity\, audit reports\, and much more. \nCredit union board members\, committee members\, and management should not miss the Tennessee Directors College! We invite you to participate in this acclaimed\, annual one-day session. Be sure to take advantage of this excellent training opportunity for directors and staff. \nLocation:\nWilliam R. Snodgrass Tennessee Tower\n312 Rosa L. Parks Ave. Nashville\, TN 37243 \nPricing: $199 for Members | $299 for Non Members \nClick on the registration button below to view the agenda.
URL:https://www.nascus.org/event/tennessee-directors-college-3/
ATTACH;FMTTYPE=image/jpeg:https://www.nascus.org/wp-content/uploads/2022/03/Fimage-Tennessee-Nashville_1082210747.jpg
END:VEVENT
BEGIN:VEVENT
DTSTART;TZID=America/New_York:20221215T100000
DTEND;TZID=America/New_York:20221215T120000
DTSTAMP:20260422T135448
CREATED:20220921T145629Z
LAST-MODIFIED:20221212T144107Z
UID:10000375-1671098400-1671105600@www.nascus.org
SUMMARY:NCUA Board Meeting
DESCRIPTION:Board Agenda for the December 15\, 2022 Meeting\n\n\n\n\nNATIONAL CREDIT UNION ADMINISTRATION\n \n\nAll NCUA Board meetings are held at its headquarters in Alexandria Virginia. NCUA’s open Board meetings are livestreamed and available afterward for viewing for one year. All future meetings’ agendas and schedules are subject to change. All open NCUA Board meetings are live. \n\nTIME AND DATE: 10:00 a.m.\, Thursday\, December 15\, 2022 \nClick here to access the NCUA site and join the meeting. \n\nPLACE: \nBoard Room\, 7th Floor\, Room 7047\n1775 Duke Street (All visitors must use Diagonal Road Entrance)\nAlexandria\, VA  22314-3428 \nSTATUS: Open \nMATTER TO BE CONSIDERED: \n\nBoard Briefing\, Share Insurance Fund 2023 Normal Operating Level.\nNCUA’s 2023-2024 Budget.\nProposed Rule\, Parts 701 and 714\, Financial Innovation – Loan Participation\, Eligible Obligations\, and Notes of Liquidating Credit Unions.\n\nFOR FURTHER INFORMATION CONTACT: Melane Conyers-Ausbrooks\, Secretary of the Board\, Telephone: 703.518.6304
URL:https://www.nascus.org/event/ncua-board-meeting-2/2022-12-15/
END:VEVENT
BEGIN:VEVENT
DTSTART;TZID=America/New_York:20221215T160000
DTEND;TZID=America/New_York:20221215T170000
DTSTAMP:20260422T135448
CREATED:20220921T181345Z
LAST-MODIFIED:20220921T181524Z
UID:10000268-1671120000-1671123600@www.nascus.org
SUMMARY:NASCUS Event: State Supervisory Authority (SSA) Members Meeting
DESCRIPTION:NASCUS works with state regulatory agencies to explore ways to improve not just the state credit union systems regulatory environment\, but its supervisory environment. These meetings are designed to bring regulators together to tackle issues and share best practices in an open forum. \nThese meetings help state regulators collaborate and enhance their efficiencies\, which benefits the state agencies as well as the credit union regulatory system. \nThis meeting is by invitation only.  \n\nNASCUS Staff Liaisons:\nJohn J. Kolhoff\, NASCUS Senior Vice President of Policy and Supervision\nSarah Stevenson\, NASCUS of Regulatory Affairs \n 
URL:https://www.nascus.org/event/nascus-event-state-supervisory-authority-ssa-members-meeting/2022-12-15/
ATTACH;FMTTYPE=image/jpeg:https://www.nascus.org/wp-content/uploads/2022/09/Fimage-zoom-meeting_1689338029.jpg
END:VEVENT
END:VCALENDAR