BEGIN:VCALENDAR
VERSION:2.0
PRODID:-//NASCUS - ECPv6.15.20//NONSGML v1.0//EN
CALSCALE:GREGORIAN
METHOD:PUBLISH
X-WR-CALNAME:NASCUS
X-ORIGINAL-URL:https://www.nascus.org
X-WR-CALDESC:Events for NASCUS
REFRESH-INTERVAL;VALUE=DURATION:PT1H
X-Robots-Tag:noindex
X-PUBLISHED-TTL:PT1H
BEGIN:VTIMEZONE
TZID:America/New_York
BEGIN:DAYLIGHT
TZOFFSETFROM:-0500
TZOFFSETTO:-0400
TZNAME:EDT
DTSTART:20210314T070000
END:DAYLIGHT
BEGIN:STANDARD
TZOFFSETFROM:-0400
TZOFFSETTO:-0500
TZNAME:EST
DTSTART:20211107T060000
END:STANDARD
BEGIN:DAYLIGHT
TZOFFSETFROM:-0500
TZOFFSETTO:-0400
TZNAME:EDT
DTSTART:20220313T070000
END:DAYLIGHT
BEGIN:STANDARD
TZOFFSETFROM:-0400
TZOFFSETTO:-0500
TZNAME:EST
DTSTART:20221106T060000
END:STANDARD
BEGIN:DAYLIGHT
TZOFFSETFROM:-0500
TZOFFSETTO:-0400
TZNAME:EDT
DTSTART:20230312T070000
END:DAYLIGHT
BEGIN:STANDARD
TZOFFSETFROM:-0400
TZOFFSETTO:-0500
TZNAME:EST
DTSTART:20231105T060000
END:STANDARD
END:VTIMEZONE
BEGIN:VTIMEZONE
TZID:America/Chicago
BEGIN:DAYLIGHT
TZOFFSETFROM:-0600
TZOFFSETTO:-0500
TZNAME:CDT
DTSTART:20210314T080000
END:DAYLIGHT
BEGIN:STANDARD
TZOFFSETFROM:-0500
TZOFFSETTO:-0600
TZNAME:CST
DTSTART:20211107T070000
END:STANDARD
BEGIN:DAYLIGHT
TZOFFSETFROM:-0600
TZOFFSETTO:-0500
TZNAME:CDT
DTSTART:20220313T080000
END:DAYLIGHT
BEGIN:STANDARD
TZOFFSETFROM:-0500
TZOFFSETTO:-0600
TZNAME:CST
DTSTART:20221106T070000
END:STANDARD
BEGIN:DAYLIGHT
TZOFFSETFROM:-0600
TZOFFSETTO:-0500
TZNAME:CDT
DTSTART:20230312T080000
END:DAYLIGHT
BEGIN:STANDARD
TZOFFSETFROM:-0500
TZOFFSETTO:-0600
TZNAME:CST
DTSTART:20231105T070000
END:STANDARD
END:VTIMEZONE
BEGIN:VEVENT
DTSTART;TZID=America/New_York:20221003T120000
DTEND;TZID=America/New_York:20221003T170000
DTSTAMP:20260419T164010
CREATED:20220915T141424Z
LAST-MODIFIED:20220915T141424Z
UID:10000370-1664798400-1664816400@www.nascus.org
SUMMARY:Comments Due: Policy Statement on Prudent Commercial Real Estate Loan Accommodations and Workouts
DESCRIPTION:MEMBER BENEFIT: Click here to read the NASCUS summary proposed policy.  \n\nJoint Policy Statement Summary: Prudent Commercial Real Estate Loan Accommodations and Workouts \nThe Office of the Comptroller of the Currency (OCC)\, Federal Deposit Insurance Corporation (FDIC)\, and National Credit Union Administration (NCUA) (the agencies)\, in consultation with state bank and credit union regulators\, are inviting comment on an updated policy statement for prudent commercial real estate loan accommodations and workouts\, which would be relevant to all financial institutions supervised by the agencies. This updated policy statement would build on existing guidance on the need for financial institutions to work prudently and constructively with creditworthy borrowers during times of financial stress\, update existing interagency guidance on commercial real estate loan workouts\, and add a new section on short-term loan accommodations. The updated statement also would address relevant accounting changes on estimating loan losses and provide updated examples of how to classify and account for loans modified or affected by loan accommodations or loan workout activity.
URL:https://www.nascus.org/event/comments-due-policy-statement-on-prudent-commercial-real-estate-loan-accommodations-and-workouts/
END:VEVENT
BEGIN:VEVENT
DTSTART;TZID=America/New_York:20221005T150000
DTEND;TZID=America/New_York:20221005T160000
DTSTAMP:20260419T164010
CREATED:20220921T170055Z
LAST-MODIFIED:20220921T174250Z
UID:10000261-1664982000-1664985600@www.nascus.org
SUMMARY:NASCUS Event: Legislative and Regulatory Affairs Committee Meeting
DESCRIPTION:The Legislative and Regulatory Affairs Committee is a standing committee that works to advance legislative and regulatory solutions that preserve a viable and attractive state credit union system.\nThis committee\, comprised of regulators\, credit unions\, and leagues\, develops NASCUS’ comment letters\, recommends NASCUS policy positions\, and guides NASCUS legislative activity. The Committee may form smaller working groups\, as needed\, to examine specific questions. The Committee may also host special subject matter events on emerging issues. \nBy invitation only. \nClick here for a full list of Regulator and Credit Union Committee Members \nNASCUS Staff Liaisons:\nJohn J. Kolhoff\, NASCUS Senior Vice President of Policy and Supervision\nNichole Seabron\, NASCUS Vice President of Legislative/Regulatory Counsel\nSarah Stevenson\, NASCUS of Regulatory Affairs
URL:https://www.nascus.org/event/nascus-event-legislative-and-regulatory-affairs-committee-meeting/2022-10-05/
LOCATION:Virtual
ATTACH;FMTTYPE=image/jpeg:https://www.nascus.org/wp-content/uploads/2022/09/Fimage-LandR-F22-P1222936.jpg
END:VEVENT
BEGIN:VEVENT
DTSTART;TZID=America/Chicago:20221006T110000
DTEND;TZID=America/Chicago:20221006T170000
DTSTAMP:20260419T164010
CREATED:20220921T151621Z
LAST-MODIFIED:20220921T152916Z
UID:10000378-1665054000-1665075600@www.nascus.org
SUMMARY:Filene Webinar: So you want to talk about...future of branches
DESCRIPTION:Click here to register.\nAs more and more people opt to receive financial services online or through mobile apps\, and physical transactions increasingly take place through ATMs and ITMs\, could this mean we are seeing the eventual end of traditional branches? If this is true\, the change likely represents a transformation\, not an elimination\, of the physical branch. \nThere are big questions looming around physical branches and Filene’s hot topic webinar series continues with a special session looking into the future of branches. Join Filene and a panel of credit union leaders on Thursday\, October 6 at 11:00am CDT\, as we dive into what the future of branch banking might look like. \nAll Filene webinars are in Central Time Zone.
URL:https://www.nascus.org/event/filene-webinar-so-you-want-to-talk-about-future-of-branches/
LOCATION:Virtual
END:VEVENT
BEGIN:VEVENT
DTSTART;TZID=America/New_York:20221006T160000
DTEND;TZID=America/New_York:20221006T170000
DTSTAMP:20260419T164010
CREATED:20220921T180713Z
LAST-MODIFIED:20220921T181534Z
UID:10000263-1665072000-1665075600@www.nascus.org
SUMMARY:NASCUS Event: SSA and NCUA Meeting
DESCRIPTION:NASCUS is working with state and federal regulatory agencies to explore ways to improve not just the state credit union systems regulatory environment\, but its supervisory environment. These meetings are designed to bring state and federal regulators together to tackle issues and share best practices in an open forum. \nThese meetings help state regulators collaborate and enhance their efficiencies\, which benefits the state agencies as well as the credit union regulatory system. \nThis meeting is by invitation only.  \n\nNASCUS Staff Liaisons:\nJohn J. Kolhoff\, NASCUS Senior Vice President of Policy and Supervision\nSarah Stevenson\, NASCUS of Regulatory Affairs \n 
URL:https://www.nascus.org/event/nascus-event-ssa-and-ncua-meeting/2022-10-06/
LOCATION:Virtual
ATTACH;FMTTYPE=image/jpeg:https://www.nascus.org/wp-content/uploads/2022/09/Fimage-zoom-meeting_1689338029.jpg
END:VEVENT
END:VCALENDAR