BEGIN:VCALENDAR
VERSION:2.0
PRODID:-//NASCUS - ECPv6.15.20//NONSGML v1.0//EN
CALSCALE:GREGORIAN
METHOD:PUBLISH
X-ORIGINAL-URL:https://www.nascus.org
X-WR-CALDESC:Events for NASCUS
REFRESH-INTERVAL;VALUE=DURATION:PT1H
X-Robots-Tag:noindex
X-PUBLISHED-TTL:PT1H
BEGIN:VTIMEZONE
TZID:America/Denver
BEGIN:DAYLIGHT
TZOFFSETFROM:-0700
TZOFFSETTO:-0600
TZNAME:MDT
DTSTART:20210314T090000
END:DAYLIGHT
BEGIN:STANDARD
TZOFFSETFROM:-0600
TZOFFSETTO:-0700
TZNAME:MST
DTSTART:20211107T080000
END:STANDARD
BEGIN:DAYLIGHT
TZOFFSETFROM:-0700
TZOFFSETTO:-0600
TZNAME:MDT
DTSTART:20220313T090000
END:DAYLIGHT
BEGIN:STANDARD
TZOFFSETFROM:-0600
TZOFFSETTO:-0700
TZNAME:MST
DTSTART:20221106T080000
END:STANDARD
BEGIN:DAYLIGHT
TZOFFSETFROM:-0700
TZOFFSETTO:-0600
TZNAME:MDT
DTSTART:20230312T090000
END:DAYLIGHT
BEGIN:STANDARD
TZOFFSETFROM:-0600
TZOFFSETTO:-0700
TZNAME:MST
DTSTART:20231105T080000
END:STANDARD
END:VTIMEZONE
BEGIN:VEVENT
DTSTART;VALUE=DATE:20220907
DTEND;VALUE=DATE:20220909
DTSTAMP:20260422T093532
CREATED:20220513T150653Z
LAST-MODIFIED:20220915T135133Z
UID:10000256-1662508800-1662681599@www.nascus.org
SUMMARY:NASCUS Event: The Exchange
DESCRIPTION:September 7 – 8\, 2022\nThe Exchange (A NASCUS Initiative) is an annual issues-driven event that brings state- and federally-chartered credit union CEOs with assets greater than $10B+ together with dynamic state system regulators to identify and discuss emerging issues and trends affecting dual charters and the financial services sector. \nIn an effort to foster further collaboration and develop innovative solutions\, NCUA\, federal regulatory agencies\, and/or subject matter experts may be invited to participate in part of the discussion. \n\nLocation:\nWestin Denver International Airport\n8300 Peña Boulevard\nDenver\, CO 80249\nThe Westin Hotel is in the Jeppessen Terminal\, adjacent to the Denver International Airport. \n  \nRoom rate: $259/night plus tax and applicable hotel fees. \nFor your convenience\, NASCUS will make a room reservation for you.  \n\nAt check-in\, you will need to present your credit card to pay for the room. \nPlease send your ARRIVAL and DEPARTURE dates to Dr. Isaida Woo\, Senior Vice President\, Corporate Affairs and Education by August 10\, 2022.\n\n\nEvent Registration:\nThe Exchange is by invitation only. \n\nThere is no registration fee to participate.\nAll meals will be provided by NASCUS.\n\nQuestions:\nFor further information\, please contact Dr. Isaida Woo\, Senior Vice President\, Corporate Affairs and Education \n\nAgenda\nWednesday\, Sept. 7\, 2022 : Location TBD \n6:00 pm – 8:30 pm Reception & Networking Dinner \n  \nThursday\, Sept. 8\, 2022 : Cottonwood Room \n8:30 am – 9:00 am Networking Breakfast \n9:00 am – 12:00 pm Collaboration and Discussion \n10:00 am – 10:15 am Comfort Break \n12:00 pm – 12:45 pm Working Lunch \n12:45 pm – 3:00 pm Collaboration and Dialogue Continues \n3:00 pm Closing Thoughts
URL:https://www.nascus.org/event/the-exchange/
END:VEVENT
END:VCALENDAR