BEGIN:VCALENDAR
VERSION:2.0
PRODID:-//NASCUS - ECPv6.15.20//NONSGML v1.0//EN
CALSCALE:GREGORIAN
METHOD:PUBLISH
X-ORIGINAL-URL:https://www.nascus.org
X-WR-CALDESC:Events for NASCUS
REFRESH-INTERVAL;VALUE=DURATION:PT1H
X-Robots-Tag:noindex
X-PUBLISHED-TTL:PT1H
BEGIN:VTIMEZONE
TZID:America/New_York
BEGIN:DAYLIGHT
TZOFFSETFROM:-0500
TZOFFSETTO:-0400
TZNAME:EDT
DTSTART:20250309T070000
END:DAYLIGHT
BEGIN:STANDARD
TZOFFSETFROM:-0400
TZOFFSETTO:-0500
TZNAME:EST
DTSTART:20251102T060000
END:STANDARD
BEGIN:DAYLIGHT
TZOFFSETFROM:-0500
TZOFFSETTO:-0400
TZNAME:EDT
DTSTART:20260308T070000
END:DAYLIGHT
BEGIN:STANDARD
TZOFFSETFROM:-0400
TZOFFSETTO:-0500
TZNAME:EST
DTSTART:20261101T060000
END:STANDARD
BEGIN:DAYLIGHT
TZOFFSETFROM:-0500
TZOFFSETTO:-0400
TZNAME:EDT
DTSTART:20270314T070000
END:DAYLIGHT
BEGIN:STANDARD
TZOFFSETFROM:-0400
TZOFFSETTO:-0500
TZNAME:EST
DTSTART:20271107T060000
END:STANDARD
END:VTIMEZONE
BEGIN:VEVENT
DTSTART;VALUE=DATE:20260420
DTEND;VALUE=DATE:20260425
DTSTAMP:20260424T084525
CREATED:20251028T135824Z
LAST-MODIFIED:20260116T182149Z
UID:10000536-1776643200-1777075199@www.nascus.org
SUMMARY:2026 CRE for Financial Institution Examiners
DESCRIPTION:Join Us on April 20–24\, 2026 in Tacoma\, WA\n\n\n\n\n\n\n\n\n\n\n\n\nUnlock a comprehensive understanding of risk in real estate lending with our Commercial Real Estate for Financial Institution Examiners course. Gain insights into evaluating risk across various property types\, including: \n\nBuilder-Developer & Investor Real Estate\nResidential Construction & Lot Development\nRetail\, Multi-Family\, Industrial\, Office Buildings\nMedical Facilities\, Condos\, and Storage Units\n\nLearn to identify market characteristics\, often-missed risks\, and unique challenges of the real estate cycle. Master proper loan structuring\, collateral evaluation\, and best practices through engaging case studies and real-world scenarios. \nThis event is sold out.\n\n\n\n\n\n\n\n\n\n\n\n\n\nWho Should Attend? \nDesigned for financial institution examiners of all experience levels\, this course ensures valuable learning for everyone. \nCourse Times and Details: \n\nMonday–Thursday (April 20–23): 8:30 am – 5:00 pm\nFriday (April 24): 8:30 am – Noon\n\nPrice: $1\,375 \nLocation: Courtyard Marriott Tacoma Downtown\n1515 Commerce Street\, Tacoma\, WA 98402 \n\nRoom Rate: $159/night\nClick here for a link to the room block reservation system.\n\nQuestions: Please contact Mary Ellen O’Neill\, Accreditation Program Administrator at meoneill@nascus.org.
URL:https://www.nascus.org/event/2026-cre-for-financial-institution-examiners/
END:VEVENT
END:VCALENDAR