BEGIN:VCALENDAR
VERSION:2.0
PRODID:-//NASCUS - ECPv6.15.20//NONSGML v1.0//EN
CALSCALE:GREGORIAN
METHOD:PUBLISH
X-WR-CALNAME:NASCUS
X-ORIGINAL-URL:https://www.nascus.org
X-WR-CALDESC:Events for NASCUS
REFRESH-INTERVAL;VALUE=DURATION:PT1H
X-Robots-Tag:noindex
X-PUBLISHED-TTL:PT1H
BEGIN:VTIMEZONE
TZID:America/New_York
BEGIN:DAYLIGHT
TZOFFSETFROM:-0500
TZOFFSETTO:-0400
TZNAME:EDT
DTSTART:20250309T070000
END:DAYLIGHT
BEGIN:STANDARD
TZOFFSETFROM:-0400
TZOFFSETTO:-0500
TZNAME:EST
DTSTART:20251102T060000
END:STANDARD
BEGIN:DAYLIGHT
TZOFFSETFROM:-0500
TZOFFSETTO:-0400
TZNAME:EDT
DTSTART:20260308T070000
END:DAYLIGHT
BEGIN:STANDARD
TZOFFSETFROM:-0400
TZOFFSETTO:-0500
TZNAME:EST
DTSTART:20261101T060000
END:STANDARD
BEGIN:DAYLIGHT
TZOFFSETFROM:-0500
TZOFFSETTO:-0400
TZNAME:EDT
DTSTART:20270314T070000
END:DAYLIGHT
BEGIN:STANDARD
TZOFFSETFROM:-0400
TZOFFSETTO:-0500
TZNAME:EST
DTSTART:20271107T060000
END:STANDARD
END:VTIMEZONE
BEGIN:VEVENT
DTSTART;VALUE=DATE:20261112
DTEND;VALUE=DATE:20261114
DTSTAMP:20260419T130527
CREATED:20260311T141914Z
LAST-MODIFIED:20260419T164429Z
UID:10000566-1794441600-1794614399@www.nascus.org
SUMMARY:2026 Legal Symposium
DESCRIPTION:2026 NASCUS Legal Symposium\nStay Current. Get Connected. Be Prepared.\nNASCUS will host the 2026 Legal Symposium on November 12–13 in New Orleans\, bringing together agency general counsel\, credit union counsel\, and private practitioners from across the country. \nThis new 1½-day event is designed to support professional development and meaningful dialogue around the legal issues shaping the credit union system. Through focused sessions and peer exchange\, attendees will gain practical insight they can take back to their organizations. \n \nBeyond the sessions\, the event creates space to connect with peers across regulatory agencies and credit unions\, share perspectives\, and build relationships that extend beyond the room. Attendees will also learn more about NASCUS Attorney Roundtables and how to stay engaged in ongoing legal discussions within the industry. This event will feature: \nFocused legal discussions\, including \n\nBond agreements and cyber insurance\nDevelopments surrounding stablecoins and digital assets\nUCC update\nBest practices in third-party contracts\nLitigation trends affecting financial institutions\nRegulatory developments\n\nPeer-to-peer exchanges \n\nConnect with attorneys from state regulatory agencies and credit unions across the country\nShare perspectives and strengthen professional relationships within the industry\nLearn more about the NASCUS Attorney Roundtables for regulators and credit unions\n\nSpace is limited. This is an in-person event. \n\nRegistration Fee: \n\n$775 NASCUS Members\n$950 Non-members\n\nLocation: The Royal Sonesta New Orleans\n300 Bourbon St\,\nNew Orleans\, LA 70130 \nRoom rate: $179/per night\nRoom block cut-off date: Thursday\, October 13\nHotel booking website \nWe look forward to welcoming you to New Orleans this November.
URL:https://www.nascus.org/event/2026-legal-symposium/
ORGANIZER;CN="Isaida Woo":MAILTO:isaida@nascus.org
END:VEVENT
BEGIN:VEVENT
DTSTART;VALUE=DATE:20261116
DTEND;VALUE=DATE:20261121
DTSTAMP:20260419T130527
CREATED:20260114T210907Z
LAST-MODIFIED:20260128T123517Z
UID:10000550-1794787200-1795219199@www.nascus.org
SUMMARY:Distressed Commercial Real Estate for Financial Institution Examiners
DESCRIPTION:Join Us November 16–20\, 2026\, in Atlanta\, GA\n\nDistressed Commercial Real Estate assists experienced commercial real estate examiners with evaluating distressed commercial real estate. The goal is to equip examiners with the knowledge needed to assess the financial institution’s method for reviewing appraisals\, management’s approach to grading\, and loan workout practices. Classroom methods include lectures\, work group sessions\, and individual problem-solving. Work groups will examine case study scenarios and provide their solutions or suggestions for resolution based upon the given circumstances. \n\nObjectives\nUpon completion\, participants should be able to: \nCollateral Assessment \n\nDemonstrate how to estimate a revised cash flow after loan origination.\nIdentify the impact on the value if the highest and best use of the project has changed.\nValidate the capitalization rate applied in an existing appraisal.\nUtilize models to perform valuation and cash flow scenarios.\nIdentify lease clauses that could affect future cash flow.\n\nCredit Analysis \n\nEvaluate the lender with respect to workout strategies.\nAnalyze the project income in support of the loan and the workout strategy.\nEvaluate global cash flow concepts\, setting forth expected standards\, including verification of financial condition.\nEvaluate the lender’s recognition and handling of deteriorating CRE loans\, including exit strategies.\nMonitor ongoing underwriting standards for CRE credits with a focus on troubled credits.\nAssessing Other Real Estate Owned from a safety and soundness perspective.\n\n\nWho Should Attend? \nContent is designed for examiners with extensive commercial real estate lending experience who have already taken the FFIEC or NASCUS Commercial Real Estate for Financial Institution Examiners introductory course. There are only 30 total open seats for this event.  \nCourse Times and Details: \n\nMonday–Thursday (Nov. 16–19): 8:30 am – 5:00 pm\nFriday (Nov. 20): 8:30 am – Noon\n\nPrice: $2\,750.00 \nLocation: Hilton Garden Inn Atlanta Downtown\n275 Baker Street Atlanta\, GA 30313 \n\nRoom Rate: $175/night\nLink to the room block reservation system\nGroup Code (ADR)\n\nQuestions: Please contact Mary Ellen O’Neill\, Accreditation Program Administrator at meoneill@nascus.org.
URL:https://www.nascus.org/event/distressed-commercial-real-estate-for-financial-institution-examiners/
END:VEVENT
BEGIN:VEVENT
DTSTART;VALUE=DATE:20261119
DTEND;VALUE=DATE:20261120
DTSTAMP:20260419T130527
CREATED:20260211T185201Z
LAST-MODIFIED:20260211T185224Z
UID:10000560-1795046400-1795132799@www.nascus.org
SUMMARY:2026 Tennessee Directors College
DESCRIPTION:Join Us on November 19\, 2026\, in Nashville\n\n\n\n\n\n\n\n\n\n\n\n\nWith state and federal regulators placing greater emphasis on credit union management and governance\, board governance must be at its best. The goal is to establish a culture of compliance and expertise that permeates from the top-down. To aid credit union leadership teams in achieving this\, we invite your senior staff and directors to join NASCUS and a panel of experts in a series of sessions covering critical topics. \n \n\n\n\n\n\n\n\n\n\n\n\n\nDuring this in-person event\, board members\, committee members\, and credit union management will have the opportunity to: \n\nExpand on skill development: Directors Colleges are designed to teach participants new skills and provide them with the tools they need to succeed in this complex industry.\nGrow your professional network: NASCUS events are great places to meet and connect with other credit union professionals and exchange ideas.\nStay current with industry trends: Our industry is constantly evolving\, and we can help you stay up to date with the latest national trends and developments.\n\nThis is an in-person event.  \n\n\n\n\n\n\n\n\n\n\n\n\n\n\n\n\n\n\n\n\n\n\n\nLocation: Ed Jones Auditorium\n416 Hogan Road\, Nashville\, TN 37220 \n\n\n\n\n\n\n\n\n\n\nPricing \n\n$199 NASCUS Members\n$299 Non-members
URL:https://www.nascus.org/event/2026-tennessee-directors-college/
ATTACH;FMTTYPE=image/jpeg:https://www.nascus.org/wp-content/uploads/2025/07/2025-TN-DIrColl-social-copy-e1752688274835.jpg
END:VEVENT
END:VCALENDAR